BEGIN:VCALENDAR
VERSION:2.0
PRODID:-//Plone.org//NONSGML plone.app.event//EN
X-WR-TIMEZONE:Europe/Rome
BEGIN:VEVENT
SUMMARY:Il ruolo del chimico fra Università e Professione 6° evento spec
 ialistico Green economy e Limiti delle risorse
DTSTART;VALUE=DATE:20180606
DTEND;VALUE=DATE:20180607
DTSTAMP;VALUE=DATE-TIME:20260421T114416Z
UID:99afe484f4ec426d8204c97fb6f2e432@chimica-industriale.unibo.it
CREATED;VALUE=DATE-TIME:20180502T113238Z
LAST-MODIFIED;VALUE=DATE-TIME:20180502T123854Z
URL:https://chimica-industriale.unibo.it/it/eventi/il-ruolo-del-chimico-fr
 a-universita-e-professione-6deg-evento-specialistico-green-economy-e-limit
 i-delle-risorse
END:VEVENT
END:VCALENDAR
